Index of /checkResults/3.15/bioc-LATEST/csaw/raw-results/merida1

[ICO]NameLast modifiedSizeDescription

[DIR]Parent Directory  -  
[TXT]buildbin-out.txt11-Aug-2022 04:40 8.8K 
[   ]buildbin-summary.dcf11-Aug-2022 04:40 513  
[TXT]buildsrc-out.txt11-Aug-2022 04:40 1.1K 
[   ]buildsrc-summary.dcf11-Aug-2022 04:40 419  
[TXT]checksrc-out.txt11-Aug-2022 04:40 4.5K 
[   ]checksrc-summary.dcf11-Aug-2022 04:40 432  
[TXT]install-out.txt11-Aug-2022 04:40 8.0K 
[   ]install-summary.dcf11-Aug-2022 04:40 264