Index of /checkResults/3.15/bioc-LATEST/crossmeta/raw-results/palomino3

[ICO]NameLast modifiedSizeDescription

[DIR]Parent Directory  -  
[TXT]buildbin-out.txt16-Aug-2022 02:21 1.1K 
[   ]buildbin-summary.dcf16-Aug-2022 02:21 527  
[TXT]buildsrc-out.txt16-Aug-2022 02:21 849  
[   ]buildsrc-summary.dcf16-Aug-2022 02:21 461  
[TXT]checksrc-out.txt16-Aug-2022 02:21 3.5K 
[   ]checksrc-summary.dcf16-Aug-2022 02:21 455  
[TXT]install-out.txt16-Aug-2022 02:21 1.0K 
[   ]install-summary.dcf16-Aug-2022 02:21 272