Index of /checkResults/3.15/bioc-LATEST/crossmeta/raw-results/nebbiolo1

[ICO]NameLast modifiedSizeDescription

[DIR]Parent Directory  -  
[TXT]buildsrc-out.txt11-Aug-2022 04:39 814  
[   ]buildsrc-summary.dcf11-Aug-2022 04:39 423  
[TXT]checksrc-out.txt11-Aug-2022 04:39 3.5K 
[   ]checksrc-summary.dcf11-Aug-2022 04:39 432  
[TXT]install-out.txt11-Aug-2022 04:39 1.0K 
[   ]install-summary.dcf11-Aug-2022 04:39 263