Name | Last modified | Size | Description | |
---|---|---|---|---|
Parent Directory | - | |||
buildbin-summary.dcf | 19-Mar-2022 00:07 | 542 | ||
buildbin-out.txt | 19-Mar-2022 00:07 | 1.9K | ||
checksrc-summary.dcf | 19-Mar-2022 00:07 | 465 | ||
checksrc-out.txt | 19-Mar-2022 00:07 | 3.6K | ||
buildsrc-summary.dcf | 19-Mar-2022 00:07 | 481 | ||
buildsrc-out.txt | 19-Mar-2022 00:07 | 1.0K | ||
install-summary.dcf | 19-Mar-2022 00:07 | 277 | ||
install-out.txt | 19-Mar-2022 00:07 | 2.0K | ||