Name | Last modified | Size | Description | |
---|---|---|---|---|
Parent Directory | - | |||
checksrc-summary.dcf | 20-Oct-2022 02:20 | 435 | ||
checksrc-out.txt | 20-Oct-2022 02:20 | 14K | ||
buildsrc-summary.dcf | 20-Oct-2022 02:20 | 426 | ||
buildsrc-out.txt | 20-Oct-2022 02:20 | 842 | ||
install-summary.dcf | 20-Oct-2022 02:20 | 265 | ||
install-out.txt | 20-Oct-2022 02:20 | 1.0K | ||