Name | Last modified | Size | Description | |
---|---|---|---|---|
Parent Directory | - | |||
install-summary.dcf | 20-Oct-2022 02:22 | 270 | ||
install-out.txt | 20-Oct-2022 02:22 | 1.0K | ||
checksrc-summary.dcf | 18-Oct-2022 02:22 | 454 | ||
checksrc-out.txt | 18-Oct-2022 02:22 | 3.1K | ||
buildsrc-summary.dcf | 20-Oct-2022 02:22 | 344 | ||
buildsrc-out.txt | 20-Oct-2022 02:22 | 4.6K | ||
buildbin-summary.dcf | 18-Oct-2022 02:22 | 531 | ||
buildbin-out.txt | 18-Oct-2022 02:22 | 1.2K | ||