Name | Last modified | Size | Description | |
---|---|---|---|---|
Parent Directory | - | |||
buildsrc-out.txt | 20-Oct-2022 02:20 | 1.2K | ||
buildsrc-summary.dcf | 20-Oct-2022 02:20 | 423 | ||
checksrc-out.txt | 20-Oct-2022 02:20 | 5.2K | ||
checksrc-summary.dcf | 20-Oct-2022 02:20 | 438 | ||
install-out.txt | 20-Oct-2022 02:20 | 2.1K | ||
install-summary.dcf | 20-Oct-2022 02:20 | 263 | ||