Name | Last modified | Size | Description | |
---|---|---|---|---|
Parent Directory | - | |||
buildbin-summary.dcf | 20-Oct-2022 02:22 | 543 | ||
buildbin-out.txt | 20-Oct-2022 02:22 | 3.5K | ||
checksrc-summary.dcf | 20-Oct-2022 02:22 | 458 | ||
checksrc-out.txt | 20-Oct-2022 02:22 | 5.2K | ||
buildsrc-summary.dcf | 20-Oct-2022 02:22 | 434 | ||
buildsrc-out.txt | 20-Oct-2022 02:22 | 1.2K | ||
install-out.txt | 20-Oct-2022 02:22 | 2.6K | ||
install-summary.dcf | 20-Oct-2022 02:22 | 274 | ||