Index of /checkResults/3.15/bioc-LATEST/consensusDE/raw-results/palomino3

[ICO]NameLast modifiedSizeDescription

[DIR]Parent Directory  -  
[TXT]buildbin-out.txt04-Aug-2022 02:21 1.1K 
[   ]buildbin-summary.dcf04-Aug-2022 02:21 537  
[TXT]buildsrc-out.txt04-Aug-2022 02:21 896  
[   ]buildsrc-summary.dcf04-Aug-2022 02:21 468  
[TXT]checksrc-out.txt04-Aug-2022 02:21 3.2K 
[   ]checksrc-summary.dcf04-Aug-2022 02:21 463  
[TXT]install-out.txt04-Aug-2022 02:21 965  
[   ]install-summary.dcf04-Aug-2022 02:21 276