Name | Last modified | Size | Description | |
---|---|---|---|---|
Parent Directory | - | |||
buildsrc-out.txt | 20-Oct-2022 02:20 | 862 | ||
buildsrc-summary.dcf | 20-Oct-2022 02:20 | 429 | ||
checksrc-out.txt | 20-Oct-2022 02:20 | 3.3K | ||
checksrc-summary.dcf | 20-Oct-2022 02:20 | 440 | ||
install-out.txt | 20-Oct-2022 02:20 | 951 | ||
install-summary.dcf | 20-Oct-2022 02:20 | 267 | ||