Name | Last modified | Size | Description | |
---|---|---|---|---|
Parent Directory | - | |||
install-summary.dcf | 20-Oct-2022 02:22 | 277 | ||
install-out.txt | 20-Oct-2022 02:22 | 1.0K | ||
checksrc-summary.dcf | 20-Oct-2022 02:22 | 460 | ||
checksrc-out.txt | 20-Oct-2022 02:22 | 3.3K | ||
buildsrc-summary.dcf | 20-Oct-2022 02:22 | 440 | ||
buildsrc-out.txt | 20-Oct-2022 02:22 | 872 | ||
buildbin-summary.dcf | 20-Oct-2022 02:22 | 554 | ||
buildbin-out.txt | 20-Oct-2022 02:22 | 1.2K | ||