Index of /checkResults/3.15/bioc-LATEST/consensusDE/raw-results/merida1

[ICO]NameLast modifiedSizeDescription

[DIR]Parent Directory  -  
[TXT]buildbin-out.txt16-Aug-2022 02:22 1.2K 
[   ]buildbin-summary.dcf16-Aug-2022 02:22 554  
[TXT]buildsrc-out.txt16-Aug-2022 02:22 872  
[   ]buildsrc-summary.dcf16-Aug-2022 02:22 440  
[TXT]checksrc-out.txt16-Aug-2022 02:22 3.3K 
[   ]checksrc-summary.dcf16-Aug-2022 02:22 460  
[TXT]install-out.txt16-Aug-2022 02:22 1.0K 
[   ]install-summary.dcf16-Aug-2022 02:22 277