Name | Last modified | Size | Description | |
---|---|---|---|---|
Parent Directory | - | |||
install-summary.dcf | 20-Oct-2022 02:20 | 252 | ||
install-out.txt | 20-Oct-2022 02:20 | 2.1K | ||
checksrc-summary.dcf | 20-Oct-2022 02:20 | 410 | ||
checksrc-out.txt | 20-Oct-2022 02:20 | 3.6K | ||
buildsrc-summary.dcf | 20-Oct-2022 02:20 | 406 | ||
buildsrc-out.txt | 20-Oct-2022 02:20 | 886 | ||