Name | Last modified | Size | Description | |
---|---|---|---|---|
Parent Directory | - | |||
buildsrc-out.txt | 20-Oct-2022 02:20 | 866 | ||
buildsrc-summary.dcf | 20-Oct-2022 02:20 | 328 | ||
checksrc-out.txt | 09-Jul-2022 02:19 | 5.1K | ||
checksrc-summary.dcf | 09-Jul-2022 02:19 | 416 | ||
install-out.txt | 20-Oct-2022 02:20 | 622 | ||
install-summary.dcf | 20-Oct-2022 02:20 | 257 | ||