Name | Last modified | Size | Description | |
---|---|---|---|---|
Parent Directory | - | |||
install-summary.dcf | 19-Mar-2022 00:07 | 268 | ||
install-out.txt | 19-Mar-2022 00:07 | 6.5K | ||
checksrc-summary.dcf | 19-Mar-2022 00:07 | 447 | ||
checksrc-out.txt | 19-Mar-2022 00:07 | 4.4K | ||
buildsrc-summary.dcf | 19-Mar-2022 00:07 | 452 | ||
buildsrc-out.txt | 19-Mar-2022 00:07 | 1.2K | ||
buildbin-summary.dcf | 19-Mar-2022 00:07 | 514 | ||
buildbin-out.txt | 19-Mar-2022 00:07 | 6.4K | ||