![]() | Name | Last modified | Size | Description |
---|---|---|---|---|
![]() | Parent Directory | - | ||
![]() | buildbin-out.txt | 20-Oct-2022 02:21 | 3.2K | |
![]() | buildbin-summary.dcf | 20-Oct-2022 02:21 | 514 | |
![]() | buildsrc-out.txt | 20-Oct-2022 02:21 | 1.2K | |
![]() | buildsrc-summary.dcf | 20-Oct-2022 02:21 | 452 | |
![]() | checksrc-out.txt | 20-Oct-2022 02:21 | 4.5K | |
![]() | checksrc-summary.dcf | 20-Oct-2022 02:21 | 447 | |
![]() | install-out.txt | 20-Oct-2022 02:21 | 3.1K | |
![]() | install-summary.dcf | 20-Oct-2022 02:21 | 268 | |