![]() | Name | Last modified | Size | Description |
---|---|---|---|---|
![]() | Parent Directory | - | ||
![]() | install-summary.dcf | 20-Oct-2022 02:20 | 259 | |
![]() | buildsrc-summary.dcf | 20-Oct-2022 02:20 | 417 | |
![]() | checksrc-summary.dcf | 20-Oct-2022 02:20 | 424 | |
![]() | buildsrc-out.txt | 20-Oct-2022 02:20 | 1.1K | |
![]() | install-out.txt | 20-Oct-2022 02:20 | 2.9K | |
![]() | checksrc-out.txt | 20-Oct-2022 02:20 | 3.7K | |