Name | Last modified | Size | Description | |
---|---|---|---|---|
Parent Directory | - | |||
install-summary.dcf | 20-Oct-2022 02:22 | 269 | ||
install-out.txt | 20-Oct-2022 02:22 | 2.3K | ||
checksrc-summary.dcf | 20-Oct-2022 02:22 | 444 | ||
checksrc-out.txt | 20-Oct-2022 02:22 | 4.0K | ||
buildsrc-summary.dcf | 20-Oct-2022 02:22 | 426 | ||
buildsrc-out.txt | 20-Oct-2022 02:22 | 1.1K | ||
buildbin-summary.dcf | 20-Oct-2022 02:22 | 530 | ||
buildbin-out.txt | 20-Oct-2022 02:22 | 3.2K | ||