Index of /checkResults/3.15/bioc-LATEST/cellmigRation/raw-results
Name
Last modified
Size
Description
Parent Directory
-
info.dcf
14-May-2022 01:47
288
merida1/
14-May-2022 01:47
-
nebbiolo1/
14-May-2022 01:45
-
palomino3/
14-May-2022 01:46
-
riesling1/
19-Mar-2022 00:07
-