Name | Last modified | Size | Description | |
---|---|---|---|---|
Parent Directory | - | |||
buildbin-out.txt | 19-Mar-2022 00:07 | 3.2K | ||
buildbin-summary.dcf | 19-Mar-2022 00:07 | 515 | ||
buildsrc-out.txt | 19-Mar-2022 00:07 | 839 | ||
buildsrc-summary.dcf | 19-Mar-2022 00:07 | 453 | ||
checksrc-out.txt | 19-Mar-2022 00:07 | 4.1K | ||
checksrc-summary.dcf | 19-Mar-2022 00:07 | 447 | ||
install-out.txt | 19-Mar-2022 00:07 | 3.1K | ||
install-summary.dcf | 19-Mar-2022 00:07 | 268 | ||