Name | Last modified | Size | Description | |
---|---|---|---|---|
Parent Directory | - | |||
checksrc-out.txt | 19-Mar-2022 00:07 | 3.0K | ||
buildbin-out.txt | 19-Mar-2022 00:07 | 1.6K | ||
install-out.txt | 19-Mar-2022 00:07 | 1.5K | ||
buildsrc-out.txt | 19-Mar-2022 00:07 | 861 | ||
buildbin-summary.dcf | 19-Mar-2022 00:07 | 498 | ||
buildsrc-summary.dcf | 19-Mar-2022 00:07 | 440 | ||
checksrc-summary.dcf | 19-Mar-2022 00:07 | 435 | ||
install-summary.dcf | 19-Mar-2022 00:07 | 262 | ||