![]() | Name | Last modified | Size | Description |
---|---|---|---|---|
![]() | Parent Directory | - | ||
![]() | install-summary.dcf | 20-Oct-2022 02:21 | 262 | |
![]() | checksrc-summary.dcf | 20-Oct-2022 02:21 | 435 | |
![]() | buildsrc-summary.dcf | 20-Oct-2022 02:21 | 438 | |
![]() | buildbin-summary.dcf | 20-Oct-2022 02:21 | 497 | |
![]() | buildsrc-out.txt | 20-Oct-2022 02:21 | 861 | |
![]() | install-out.txt | 20-Oct-2022 02:21 | 953 | |
![]() | buildbin-out.txt | 20-Oct-2022 02:21 | 1.0K | |
![]() | checksrc-out.txt | 20-Oct-2022 02:21 | 3.0K | |