Name | Last modified | Size | Description | |
---|---|---|---|---|
Parent Directory | - | |||
install-summary.dcf | 20-Oct-2022 02:20 | 255 | ||
install-out.txt | 20-Oct-2022 02:20 | 2.0K | ||
checksrc-summary.dcf | 20-Oct-2022 02:20 | 416 | ||
checksrc-out.txt | 20-Oct-2022 02:20 | 4.1K | ||
buildsrc-summary.dcf | 20-Oct-2022 02:20 | 412 | ||
buildsrc-out.txt | 20-Oct-2022 02:20 | 891 | ||