![]() | Name | Last modified | Size | Description |
---|---|---|---|---|
![]() | Parent Directory | - | ||
![]() | install-summary.dcf | 20-Oct-2022 02:20 | 253 | |
![]() | buildsrc-summary.dcf | 20-Oct-2022 02:20 | 408 | |
![]() | checksrc-summary.dcf | 20-Oct-2022 02:20 | 412 | |
![]() | buildsrc-out.txt | 20-Oct-2022 02:20 | 919 | |
![]() | install-out.txt | 20-Oct-2022 02:20 | 1.6K | |
![]() | checksrc-out.txt | 20-Oct-2022 02:20 | 3.6K | |