![]() | Name | Last modified | Size | Description |
---|---|---|---|---|
![]() | Parent Directory | - | ||
![]() | install-summary.dcf | 20-Oct-2022 02:22 | 263 | |
![]() | buildsrc-summary.dcf | 20-Oct-2022 02:22 | 419 | |
![]() | checksrc-summary.dcf | 20-Oct-2022 02:22 | 432 | |
![]() | buildbin-summary.dcf | 20-Oct-2022 02:22 | 512 | |
![]() | buildsrc-out.txt | 20-Oct-2022 02:22 | 929 | |
![]() | install-out.txt | 20-Oct-2022 02:22 | 2.0K | |
![]() | buildbin-out.txt | 20-Oct-2022 02:22 | 2.8K | |
![]() | checksrc-out.txt | 20-Oct-2022 02:22 | 3.6K | |