Name | Last modified | Size | Description | |
---|---|---|---|---|
Parent Directory | - | |||
buildbin-summary.dcf | 19-Mar-2022 00:07 | 530 | ||
buildbin-out.txt | 19-Mar-2022 00:07 | 3.6K | ||
checksrc-summary.dcf | 19-Mar-2022 00:07 | 463 | ||
checksrc-out.txt | 19-Mar-2022 00:07 | 4.1K | ||
buildsrc-summary.dcf | 19-Mar-2022 00:07 | 462 | ||
buildsrc-out.txt | 19-Mar-2022 00:07 | 913 | ||
install-summary.dcf | 19-Mar-2022 00:07 | 273 | ||
install-out.txt | 19-Mar-2022 00:07 | 3.7K | ||