Name | Last modified | Size | Description | |
---|---|---|---|---|
Parent Directory | - | |||
install-summary.dcf | 20-Oct-2022 02:21 | 274 | ||
install-out.txt | 20-Oct-2022 02:21 | 1.3K | ||
checksrc-summary.dcf | 20-Oct-2022 02:21 | 465 | ||
checksrc-out.txt | 20-Oct-2022 02:21 | 4.1K | ||
buildsrc-summary.dcf | 20-Oct-2022 02:21 | 465 | ||
buildsrc-out.txt | 20-Oct-2022 02:21 | 914 | ||
buildbin-summary.dcf | 20-Oct-2022 02:21 | 533 | ||
buildbin-out.txt | 20-Oct-2022 02:21 | 1.4K | ||