Index of /checkResults/3.15/bioc-LATEST/biovizBase/raw-results/palomino3

[ICO]NameLast modifiedSizeDescription

[DIR]Parent Directory  -  
[TXT]buildbin-out.txt04-Aug-2022 02:21 2.7K 
[   ]buildbin-summary.dcf04-Aug-2022 02:21 533  
[TXT]buildsrc-out.txt04-Aug-2022 02:21 886  
[   ]buildsrc-summary.dcf04-Aug-2022 02:21 465  
[TXT]checksrc-out.txt04-Aug-2022 02:21 6.0K 
[   ]checksrc-summary.dcf04-Aug-2022 02:21 465  
[TXT]install-out.txt04-Aug-2022 02:21 2.6K 
[   ]install-summary.dcf04-Aug-2022 02:21 274