Index of /checkResults/3.15/bioc-LATEST/biovizBase/raw-results/nebbiolo1

[ICO]NameLast modifiedSizeDescription

[DIR]Parent Directory  -  
[TXT]buildsrc-out.txt11-Aug-2022 04:39 848  
[   ]buildsrc-summary.dcf11-Aug-2022 04:39 426  
[TXT]checksrc-out.txt11-Aug-2022 04:39 5.5K 
[   ]checksrc-summary.dcf11-Aug-2022 04:39 442  
[TXT]install-out.txt11-Aug-2022 04:39 2.4K 
[   ]install-summary.dcf11-Aug-2022 04:39 265