Index of /checkResults/3.15/bioc-LATEST/biovizBase/raw-results/merida1

[ICO]NameLast modifiedSizeDescription

[DIR]Parent Directory  -  
[TXT]buildbin-out.txt11-Aug-2022 04:40 3.3K 
[   ]buildbin-summary.dcf11-Aug-2022 04:40 548  
[TXT]buildsrc-out.txt11-Aug-2022 04:40 858  
[   ]buildsrc-summary.dcf11-Aug-2022 04:40 435  
[TXT]checksrc-out.txt11-Aug-2022 04:40 5.6K 
[   ]checksrc-summary.dcf11-Aug-2022 04:40 462  
[TXT]install-out.txt11-Aug-2022 04:40 2.4K 
[   ]install-summary.dcf11-Aug-2022 04:40 275