Name | Last modified | Size | Description | |
---|---|---|---|---|
Parent Directory | - | |||
install-out.txt | 20-Oct-2022 02:21 | 2.6K | ||
install-summary.dcf | 20-Oct-2022 02:21 | 263 | ||
buildsrc-summary.dcf | 20-Oct-2022 02:21 | 443 | ||
buildsrc-out.txt | 20-Oct-2022 02:21 | 860 | ||
checksrc-out.txt | 20-Oct-2022 02:21 | 3.7K | ||
checksrc-summary.dcf | 20-Oct-2022 02:21 | 437 | ||
buildbin-out.txt | 20-Oct-2022 02:21 | 2.7K | ||
buildbin-summary.dcf | 20-Oct-2022 02:21 | 500 | ||