Name | Last modified | Size | Description | |
---|---|---|---|---|
Parent Directory | - | |||
checksrc-out.txt | 20-Oct-2022 02:20 | 3.2K | ||
checksrc-summary.dcf | 20-Oct-2022 02:20 | 414 | ||
buildsrc-summary.dcf | 20-Oct-2022 02:20 | 409 | ||
buildsrc-out.txt | 20-Oct-2022 02:20 | 827 | ||
install-summary.dcf | 20-Oct-2022 02:20 | 254 | ||
install-out.txt | 20-Oct-2022 02:20 | 2.3K | ||