Name | Last modified | Size | Description | |
---|---|---|---|---|
Parent Directory | - | |||
checksrc-out.txt | 20-Oct-2022 02:22 | 6.7K | ||
buildbin-out.txt | 20-Oct-2022 02:22 | 1.5K | ||
install-out.txt | 20-Oct-2022 02:22 | 1.3K | ||
buildsrc-out.txt | 20-Oct-2022 02:22 | 883 | ||
buildbin-summary.dcf | 20-Oct-2022 02:22 | 537 | ||
checksrc-summary.dcf | 20-Oct-2022 02:22 | 454 | ||
buildsrc-summary.dcf | 20-Oct-2022 02:22 | 431 | ||
install-summary.dcf | 20-Oct-2022 02:22 | 271 | ||