Index of /checkResults/3.15/bioc-LATEST/batchelor/raw-results/palomino3

[ICO]NameLast modifiedSizeDescription

[DIR]Parent Directory  -  
[TXT]buildbin-out.txt04-Aug-2022 02:21 4.6K 
[   ]buildbin-summary.dcf04-Aug-2022 02:21 527  
[TXT]buildsrc-out.txt04-Aug-2022 02:21 881  
[   ]buildsrc-summary.dcf04-Aug-2022 02:21 459  
[TXT]checksrc-out.txt04-Aug-2022 02:21 3.9K 
[   ]checksrc-summary.dcf04-Aug-2022 02:21 455  
[TXT]install-out.txt04-Aug-2022 02:21 4.4K 
[   ]install-summary.dcf04-Aug-2022 02:21 272