Name | Last modified | Size | Description | |
---|---|---|---|---|
Parent Directory | - | |||
buildbin-out.txt | 18-Feb-2022 01:07 | 3.7K | ||
buildbin-summary.dcf | 18-Feb-2022 01:07 | 533 | ||
buildsrc-out.txt | 19-Mar-2022 00:06 | 1.0K | ||
buildsrc-summary.dcf | 19-Mar-2022 00:06 | 376 | ||
checksrc-out.txt | 18-Feb-2022 01:07 | 3.1K | ||
checksrc-summary.dcf | 18-Feb-2022 01:07 | 459 | ||
install-out.txt | 19-Mar-2022 00:06 | 828 | ||
install-summary.dcf | 19-Mar-2022 00:06 | 277 | ||