![]() | Name | Last modified | Size | Description |
---|---|---|---|---|
![]() | Parent Directory | - | ||
![]() | install-out.txt | 19-Mar-2022 00:06 | 2.6K | |
![]() | install-summary.dcf | 19-Mar-2022 00:06 | 279 | |
![]() | buildsrc-out.txt | 19-Mar-2022 00:06 | 928 | |
![]() | buildsrc-summary.dcf | 19-Mar-2022 00:06 | 474 | |
![]() | checksrc-out.txt | 19-Mar-2022 00:06 | 3.2K | |
![]() | checksrc-summary.dcf | 19-Mar-2022 00:06 | 469 | |
![]() | buildbin-out.txt | 19-Mar-2022 00:06 | 2.6K | |
![]() | buildbin-summary.dcf | 19-Mar-2022 00:06 | 548 | |