![]() | Name | Last modified | Size | Description |
---|---|---|---|---|
![]() | Parent Directory | - | ||
![]() | install-out.txt | 20-Oct-2022 02:19 | 1.0K | |
![]() | install-summary.dcf | 20-Oct-2022 02:19 | 270 | |
![]() | buildsrc-out.txt | 20-Oct-2022 02:19 | 892 | |
![]() | buildsrc-summary.dcf | 20-Oct-2022 02:19 | 433 | |
![]() | checksrc-out.txt | 20-Oct-2022 02:19 | 3.2K | |
![]() | checksrc-summary.dcf | 20-Oct-2022 02:19 | 446 | |