![]() | Name | Last modified | Size | Description |
---|---|---|---|---|
![]() | Parent Directory | - | ||
![]() | install-out.txt | 20-Oct-2022 02:22 | 1.0K | |
![]() | install-summary.dcf | 20-Oct-2022 02:22 | 280 | |
![]() | buildsrc-out.txt | 20-Oct-2022 02:22 | 902 | |
![]() | buildsrc-summary.dcf | 20-Oct-2022 02:22 | 444 | |
![]() | checksrc-summary.dcf | 20-Oct-2022 02:22 | 466 | |
![]() | checksrc-out.txt | 20-Oct-2022 02:22 | 3.3K | |
![]() | buildbin-out.txt | 20-Oct-2022 02:22 | 1.2K | |
![]() | buildbin-summary.dcf | 20-Oct-2022 02:22 | 563 | |