Index of /checkResults/3.15/bioc-LATEST/barcodetrackR/raw-results
Name
Last modified
Size
Description
Parent Directory
-
info.dcf
20-Oct-2022 02:22
311
riesling1/
19-Mar-2022 00:06
-
palomino3/
20-Oct-2022 02:21
-
nebbiolo1/
20-Oct-2022 02:19
-
merida1/
20-Oct-2022 02:22
-