Name | Last modified | Size | Description | |
---|---|---|---|---|
Parent Directory | - | |||
buildsrc-out.txt | 20-Oct-2022 02:19 | 890 | ||
buildsrc-summary.dcf | 20-Oct-2022 02:19 | 410 | ||
checksrc-out.txt | 20-Oct-2022 02:19 | 4.2K | ||
checksrc-summary.dcf | 20-Oct-2022 02:19 | 414 | ||
install-out.txt | 20-Oct-2022 02:19 | 1.9K | ||
install-summary.dcf | 20-Oct-2022 02:19 | 254 | ||