Name | Last modified | Size | Description | |
---|---|---|---|---|
Parent Directory | - | |||
buildbin-summary.dcf | 20-Oct-2022 02:22 | 516 | ||
buildbin-out.txt | 20-Oct-2022 02:22 | 3.6K | ||
checksrc-summary.dcf | 20-Oct-2022 02:22 | 434 | ||
checksrc-out.txt | 20-Oct-2022 02:22 | 4.2K | ||
buildsrc-summary.dcf | 20-Oct-2022 02:22 | 420 | ||
buildsrc-out.txt | 20-Oct-2022 02:22 | 900 | ||
install-summary.dcf | 20-Oct-2022 02:22 | 265 | ||
install-out.txt | 20-Oct-2022 02:22 | 2.4K | ||