Index of /checkResults/3.15/bioc-LATEST/awst/raw-results
Name
Last modified
Size
Description
Parent Directory
-
info.dcf
28-Jun-2022 00:09
266
merida1/
25-Jun-2022 01:07
-
nebbiolo1/
28-Jun-2022 00:09
-
palomino3/
25-Jun-2022 01:05
-
riesling1/
19-Mar-2022 00:06
-