Name | Last modified | Size | Description | |
---|---|---|---|---|
Parent Directory | - | |||
buildbin-out.txt | 19-Mar-2022 00:06 | 1.7K | ||
buildbin-summary.dcf | 19-Mar-2022 00:06 | 503 | ||
buildsrc-out.txt | 19-Mar-2022 00:06 | 829 | ||
buildsrc-summary.dcf | 19-Mar-2022 00:06 | 444 | ||
checksrc-out.txt | 19-Mar-2022 00:06 | 3.2K | ||
checksrc-summary.dcf | 19-Mar-2022 00:06 | 439 | ||
install-out.txt | 19-Mar-2022 00:06 | 1.7K | ||
install-summary.dcf | 19-Mar-2022 00:06 | 265 | ||