Index of /checkResults/3.15/bioc-LATEST/atena/raw-results/palomino3

[ICO]NameLast modifiedSizeDescription

[DIR]Parent Directory  -  
[TXT]buildbin-out.txt04-Aug-2022 02:21 1.0K 
[   ]buildbin-summary.dcf04-Aug-2022 02:21 499  
[TXT]buildsrc-out.txt04-Aug-2022 02:21 828  
[   ]buildsrc-summary.dcf04-Aug-2022 02:21 443  
[TXT]checksrc-out.txt04-Aug-2022 02:21 3.2K 
[   ]checksrc-summary.dcf04-Aug-2022 02:21 437  
[TXT]install-out.txt04-Aug-2022 02:21 956  
[   ]install-summary.dcf04-Aug-2022 02:21 263