Index of /checkResults/3.15/bioc-LATEST/atena/raw-results/merida1

[ICO]NameLast modifiedSizeDescription

[DIR]Parent Directory  -  
[TXT]buildbin-out.txt16-Aug-2022 02:22 1.1K 
[   ]buildbin-summary.dcf16-Aug-2022 02:22 515  
[TXT]buildsrc-out.txt16-Aug-2022 02:22 807  
[   ]buildsrc-summary.dcf16-Aug-2022 02:22 419  
[TXT]checksrc-out.txt16-Aug-2022 02:22 3.2K 
[   ]checksrc-summary.dcf16-Aug-2022 02:22 434  
[TXT]install-out.txt16-Aug-2022 02:22 1.0K 
[   ]install-summary.dcf16-Aug-2022 02:22 264