Index of /checkResults/3.15/bioc-LATEST/annmap/raw-results
Name
Last modified
Size
Description
Parent Directory
-
info.dcf
02-Jul-2022 01:07
287
merida1/
02-Jul-2022 01:07
-
nebbiolo1/
02-Jul-2022 01:04
-