Index of /checkResults/3.15/bioc-LATEST/altcdfenvs/raw-results/merida1

[ICO]NameLast modifiedSizeDescription

[DIR]Parent Directory  -  
[TXT]buildbin-out.txt16-Aug-2022 02:22 1.4K 
[   ]buildbin-summary.dcf16-Aug-2022 02:22 548  
[TXT]buildsrc-out.txt16-Aug-2022 02:22 891  
[   ]buildsrc-summary.dcf16-Aug-2022 02:22 436  
[TXT]checksrc-out.txt16-Aug-2022 02:22 7.4K 
[   ]checksrc-summary.dcf16-Aug-2022 02:22 456  
[TXT]install-out.txt16-Aug-2022 02:22 1.2K 
[   ]install-summary.dcf16-Aug-2022 02:22 275