Name | Last modified | Size | Description | |
---|---|---|---|---|
Parent Directory | - | |||
checksrc-out.txt | 19-Mar-2022 00:06 | 22K | ||
buildbin-out.txt | 19-Mar-2022 00:06 | 1.3K | ||
install-out.txt | 19-Mar-2022 00:06 | 1.2K | ||
buildsrc-out.txt | 19-Mar-2022 00:06 | 849 | ||
buildbin-summary.dcf | 19-Mar-2022 00:06 | 527 | ||
buildsrc-summary.dcf | 19-Mar-2022 00:06 | 460 | ||
checksrc-summary.dcf | 19-Mar-2022 00:06 | 454 | ||
install-summary.dcf | 19-Mar-2022 00:06 | 272 | ||