Name | Last modified | Size | Description | |
---|---|---|---|---|
Parent Directory | - | |||
buildbin-out.txt | 20-Oct-2022 02:22 | 82K | ||
buildbin-summary.dcf | 20-Oct-2022 02:22 | 548 | ||
buildsrc-out.txt | 20-Oct-2022 02:22 | 795 | ||
buildsrc-summary.dcf | 20-Oct-2022 02:22 | 435 | ||
checksrc-out.txt | 20-Oct-2022 02:22 | 4.8K | ||
checksrc-summary.dcf | 20-Oct-2022 02:22 | 461 | ||
install-out.txt | 20-Oct-2022 02:22 | 81K | ||
install-summary.dcf | 20-Oct-2022 02:22 | 276 | ||