Name | Last modified | Size | Description | |
---|---|---|---|---|
Parent Directory | - | |||
install-summary.dcf | 20-Oct-2022 02:19 | 259 | ||
buildsrc-summary.dcf | 20-Oct-2022 02:19 | 418 | ||
checksrc-summary.dcf | 20-Oct-2022 02:19 | 424 | ||
buildsrc-out.txt | 20-Oct-2022 02:19 | 899 | ||
install-out.txt | 20-Oct-2022 02:19 | 1.4K | ||
checksrc-out.txt | 20-Oct-2022 02:19 | 4.1K | ||